BEGIN:VCALENDAR
VERSION:2.0
PRODID:-//Arts &amp; Cultures Lunel - ECPv6.15.17.1//NONSGML v1.0//EN
CALSCALE:GREGORIAN
METHOD:PUBLISH
X-WR-CALNAME:Arts &amp; Cultures Lunel
X-ORIGINAL-URL:https://artsetcultureslunel.com
X-WR-CALDESC:Évènements pour Arts &amp; Cultures Lunel
REFRESH-INTERVAL;VALUE=DURATION:PT1H
X-Robots-Tag:noindex
X-PUBLISHED-TTL:PT1H
BEGIN:VTIMEZONE
TZID:UTC
BEGIN:STANDARD
TZOFFSETFROM:+0000
TZOFFSETTO:+0000
TZNAME:UTC
DTSTART:20240101T000000
END:STANDARD
END:VTIMEZONE
BEGIN:VEVENT
DTSTART;VALUE=DATE:20250603
DTEND;VALUE=DATE:20250802
DTSTAMP:20260422T120220
CREATED:20250604T095316Z
LAST-MODIFIED:20250604T095316Z
UID:1494-1748908800-1754092799@artsetcultureslunel.com
SUMMARY:Exposition Ships Trooper
DESCRIPTION:Expositions de dessins manga.
URL:https://artsetcultureslunel.com/event/exposition-ships-trooper/
LOCATION:36 Place Jean Jaures\, 36 Place Jean Jaures\, Lunel\, 34400\, France
CATEGORIES:Expositions
ATTACH;FMTTYPE=image/jpeg:https://artsetcultureslunel.com/wp-content/uploads/2025/06/Affiche-expo-SHIPSTROOPER.jpg
END:VEVENT
END:VCALENDAR