BEGIN:VCALENDAR
VERSION:2.0
PRODID:-//Arts &amp; Cultures Lunel - ECPv6.15.17.1//NONSGML v1.0//EN
CALSCALE:GREGORIAN
METHOD:PUBLISH
X-WR-CALNAME:Arts &amp; Cultures Lunel
X-ORIGINAL-URL:https://artsetcultureslunel.com
X-WR-CALDESC:Évènements pour Arts &amp; Cultures Lunel
REFRESH-INTERVAL;VALUE=DURATION:PT1H
X-Robots-Tag:noindex
X-PUBLISHED-TTL:PT1H
BEGIN:VTIMEZONE
TZID:UTC
BEGIN:STANDARD
TZOFFSETFROM:+0000
TZOFFSETTO:+0000
TZNAME:UTC
DTSTART:20250101T000000
END:STANDARD
END:VTIMEZONE
BEGIN:VEVENT
DTSTART;TZID=UTC:20260201T110000
DTEND;TZID=UTC:20260201T120000
DTSTAMP:20260420T081334
CREATED:20260113T203438Z
LAST-MODIFIED:20260113T203438Z
UID:1680-1769943600-1769947200@artsetcultureslunel.com
SUMMARY:Vernissage exposition - Jean François Menteyne
DESCRIPTION:Pour sa deuxième exposition\, JF Menteyne a choisi : Autrefois\, les commerces au cœur de ville ! \n  \nVenez nombreux.
URL:https://artsetcultureslunel.com/event/vernissage-exposition-jean-francois-menteyne/
LOCATION:36 Place Jean Jaures\, 36 Place Jean Jaures\, Lunel\, 34400\, France
CATEGORIES:Expositions
ATTACH;FMTTYPE=image/jpeg:https://artsetcultureslunel.com/wp-content/uploads/2026/01/Sans-titre.jpg
END:VEVENT
END:VCALENDAR